BEGIN:VCALENDAR
VERSION:2.0
PRODID:-//ChamberMaster//Event Calendar 2.0//EN
METHOD:PUBLISH
X-PUBLISHED-TTL:P3D
REFRESH-INTERVAL:P3D
CALSCALE:GREGORIAN
BEGIN:VEVENT
DTSTART;VALUE=DATE:20170327
DTEND;VALUE=DATE:20170330
TRANSP:TRANSPARENT
X-MICROSOFT-CDO-ALLDAYEVENT:TRUE
SUMMARY:104th Anniversary Annual Meeting & Education Conference
DESCRIPTION:Join NEAAPA at our Annual Meeting and Education Conference with excellent sessions\, meetings\, and events to get you ready for the 2017 summer season. Don't miss the Hall of Fame induction\, election of officers and directors\, and the President's Dinner.\n\n\n\nEducational Session #1 - Facebook Live! How to Livestream to Engage with Your Customers & Increase Business\n\n9:00 - 10:30am\n\nVanessa Cabrera\, Your Social Media Mentor\nFacebook\, the #1 social media platform\, has now made it even easier and more fun to authentically connect with your customers. Facebook LIVE is all about interacting with your audience in REAL TIME. It breaks down the barriers and creates a connection that transcends traditional marketing limitations.\n\nJust think: what would you remember more? Reading an interesting article or watching a video that lets you become a part of the action.\n\nIn this cannot miss session\, you will be introduced to the world of Facebook LIVE and the different ways the Attractions and Entertainment industry can benefit from using this exciting new platform. \n\n\nEducational Session #2 - Greater Springfield Covention and Visitors Bureau (GSCVB) Hospitality/Ambassador Program\n\n10:45 - 11:45am\n\nAlicia Szenda\, Western Mass Sports Commission\, Director of Sales\nThe Greater Springfield Convention & Visitor Bureau (GSCVB) Hospitality/Ambassador Program is here to help you! We want to make sure your guests have a memorable experience and get to enjoy the many unique and great attractions located in Western\, MA.\n\n\n	What is a Convention and Visitors Bureau (CVB) and how is it different from a Chamber of Commerce?\n	What are the benefits of partnering with a CVB?\n	Tips to be successful in working with your local CVB\n\nEducational Session #3 - Operational Compliance under the US Americans with Disabilities Act\n\n10:45 - 11:45am\n\nErik Beard\, Wiggin and Dana\, LLP\, Counsel\nThe U.S. Americans with Disabilities Act (ADA) can be confounding to amusement operators in the United States. The unique environment of an amusement park or FEC creates an inherent tension between operational safety and access for disabled guests. Hear an overview of ADA law with respect to operations and\, specifically\, gain practical pointers for implementing compliant operations policies before a claim arises.\n\n\nEducational Session #4 - 2017 Employment Law-Wage and Hour Update for Small Business\n\n1:00 - 2:00pm\n\nElizabeth Milito\, Senior Executive Counsel\, National Federation of Independent Business\nChange seems to be the only constant in the employment law and HR world. At the federal level\, the new President has promised small businesses tax and regulatory relief by repealing many of President Obama's signature pieces of legislation\, including the Affordable Care Act and the new overtime rule. Meanwhile\, in the states many experts are forecasting that the incoming Trump Administration's pro-business policies will accelerate the trend of employee-friendly local and state regulations and wage and hour laws. How quickly\, and in what ways\, will rules governing the workplace change?  \n\n\n\nJoin Beth Milito\, an employment law attorney from the National Federation of Independent Business (NFIB)\, the nation's largest small business association\, for a timely and engaging analysis of the federal rules most likely to be repealed by President Trump and a review of new state and local employment laws in the Northeast region\, including the latest wage and hour enforcement actions. The session will cover the following:\n\n\n	Update on state minimum wage and youth minimum wage changes and update on status of new federal FLSA overtime rule\n	Rundown of recently enacted and pending paid sick leave and paid family leave laws and legislation and the outlook at the federal level for paid leave benefits\n	Discussion on loaded wages   how new federal\, state\, and local mandates\, including predictive scheduling laws\, mandated retirement programs\, paid leave and higher minimum wages\, impact true labor costs\n	Review of independent contractor misclassification initiatives at the federal and state levels and the impact on overtime and workers compensation\n\n\n\n\nEducational Session #5 - The Party Biz 411!\n\n1:00 - 2:00pm\n\nDorothy Lewis\, President\, Fun Station Entertainment Group\n\nKnowing what the latest trends and best practices for a successful party program in 2017 is the key for adding profits to your bottom line. Don't sit back and assume that your park or facility can get by with simply hosting ordinary parties and events. Find out how to turn ordinary into extraordinary with simple ways to deliver that experience for little or no cost. Learn from an industry veteran who has had her finger on the party business pulse for over two decades with award winning party programs that have been host to parties of all ages delivering over the top experiences. If your business hosts parties\, wants to expand its party program or if you just like to party then this session is a must for you and your team.\n\n\nVendor Showcase\n\n2:15 - 3:45pm\n\nBryan Carney\, Northeast Region Manager\, Dippin' Dots\n \n\nDon't miss this opportunity to connect with vendors and resource professionals from around the country and internationally. For the 4th year\, back by popular demand\, the NEAAPA Vendor Showcase is your chance to show\, view and try out the latest products and services in the marketplace.\n\n\n\nNetworking Session\n\n3:45 - 5:00pm\n\nSheryl Bindelglass\, SherylGolf\n \n\nMeet with that day's speakers to ask follow-up questions\, and mix and mingle with attendees. Led by Sheryl Bindelglass\, you will meet colleagues from around the industry and region\, and get tips for networking both at this event and at future events.
X-ALT-DESC;FMTTYPE=text/html:<span style="font-size:16px\;">Join NEAAPA&nbsp\;at our Annual Meeting and Education Conference&nbsp\;with excellent sessions\, meetings\, and events to get you ready for the 2017 summer season. Don&#39\;t miss the Hall of Fame induction\, election of officers and directors\, and the President&#39\;s Dinner.</span><br />\n<br />\n<span style="font-size:14px\;"><strong>Educational Session #1 - Facebook Live! How to Livestream to Engage with Your Customers &amp\; Increase Business</strong></span><br />\n9:00 - 10:30am<br />\nVanessa Cabrera\, Your Social Media Mentor\n<div style="margin-left: 40px\;">Facebook\, the #1 social media platform\, has now made it even easier and more fun to authentically connect with your customers. Facebook LIVE is all about interacting with your audience in REAL TIME. It breaks down the barriers and creates a connection that transcends traditional marketing limitations.<br />\nJust think: what would you remember more? Reading an interesting article or watching a video that lets you become a part of the action.<br />\nIn this cannot miss session\, you will be&nbsp\;introduced&nbsp\;to the world of Facebook LIVE and the different ways the Attractions and Entertainment industry can benefit from using this exciting new platform.&nbsp\;</div>\n<br />\n<span style="font-size:14px\;"><strong>Educational Session #2 - Greater Springfield Covention and Visitors Bureau (GSCVB) Hospitality/Ambassador Program</strong></span><br />\n10:45 - 11:45am<br />\nAlicia Szenda\, Western Mass Sports Commission\, Director of Sales\n<div style="margin-left: 40px\;">The Greater Springfield Convention &amp\; Visitor Bureau (GSCVB) Hospitality/Ambassador Program is here to help you! We want to make sure your guests have a memorable experience and get to enjoy the many unique and great attractions located in Western\, MA.</div>\n\n<ul>\n	<li style="margin-left: 40px\;">What is a Convention and Visitors Bureau (CVB) and how is it different from a Chamber of Commerce?</li>\n	<li style="margin-left: 40px\;">What are the benefits of partnering with a CVB?</li>\n	<li style="margin-left: 40px\;">Tips to be successful in working with your local CVB</li>\n</ul>\n<span style="font-size:14px\;"><strong>Educational Session #3 - Operational Compliance under the US Americans with Disabilities Act</strong></span><br />\n10:45 - 11:45am<br />\nErik Beard\, Wiggin and Dana\, LLP\, Counsel\n<div style="margin-left: 40px\;">The U.S. Americans with Disabilities Act (ADA) can be confounding to amusement operators in the United States. The unique environment of an amusement park or FEC creates an inherent tension between operational safety and access for disabled guests. Hear an overview of ADA law with respect to operations and\, specifically\, gain practical pointers for implementing compliant operations policies before a claim arises.</div>\n<br />\n<span style="font-size:14px\;"><strong>Educational Session #4 - 2017 Employment Law-Wage and Hour Update for Small Business</strong></span><br />\n1:00 - 2:00pm<br />\nElizabeth Milito\, Senior Executive Counsel\, National Federation of Independent Business\n<div style="margin-left: 40px\;">Change seems to be the only constant in the employment law and HR world. At the federal level\, the new President has promised small businesses tax and regulatory relief by repealing many of President Obama&rsquo\;s signature pieces of legislation\, including the Affordable Care Act and the new overtime rule. Meanwhile\, in the states many experts are forecasting that the incoming Trump Administration&rsquo\;s pro-business policies will accelerate the trend of employee-friendly local and state regulations and wage and hour laws. How quickly\, and in what ways\, will rules governing the workplace change? &nbsp\;<br />\n<br />\nJoin Beth Milito\, an employment law attorney from the National Federation of Independent Business (NFIB)\, the nation&rsquo\;s largest small business association\, for a timely and engaging analysis of the federal rules most likely to be repealed by President Trump and a review of new state and local employment laws in the Northeast region\, including the latest wage and hour enforcement actions. The session will cover the following:</div>\n\n<ul>\n	<li style="margin-left: 40px\;">Update on state minimum wage and youth minimum wage changes and update on status of new federal FLSA overtime rule</li>\n	<li style="margin-left: 40px\;">Rundown of recently enacted and pending paid sick leave and paid family leave laws and legislation and the outlook at the federal level for paid leave benefits</li>\n	<li style="margin-left: 40px\;">Discussion on loaded wages &ndash\; how new federal\, state\, and local mandates\, including predictive scheduling laws\, mandated retirement programs\, paid leave and higher minimum wages\, impact true labor costs</li>\n	<li style="margin-left: 40px\;">Review of independent contractor misclassification initiatives at the federal and state levels and the impact on overtime and workers compensation</li>\n</ul>\n\n<p><br />\n<span style="font-size:14px\;"><strong>Educational Session #5 - The Party Biz 411!</strong></span><br />\n1:00 - 2:00pm<br />\nDorothy Lewis\, President\, Fun Station Entertainment Group</p>\n\n<div style="margin-left: 40px\;">Knowing what the latest trends and best practices for a successful party program in 2017 is the key for adding profits to your bottom line. Don&rsquo\;t sit back and assume that your park or facility can get by with simply hosting ordinary parties and events. Find out how to turn ordinary into extraordinary with simple ways to deliver that experience for little or no cost. Learn from an industry veteran who has had her finger on the party business pulse for over two decades with award winning party programs that have been host to parties of all ages delivering over the top experiences. If your business hosts parties\, wants to expand its party program or if you just like to party then this session is a must for you and your team.</div>\n<br />\n<span style="font-size:14px\;"><strong>Vendor Showcase</strong></span><br />\n2:15 - 3:45pm<br />\nBryan Carney\, Northeast Region Manager\, Dippin&#39\; Dots\n<div style="margin-left: 40px\;">&nbsp\;</div>\n\n<div style="margin-left: 40px\;">Don&rsquo\;t miss this opportunity to connect with vendors and resource professionals from around the country and internationally. For the 4th year\, back by popular demand\, the NEAAPA Vendor Showcase is your chance to show\, view and try out the latest products and services in the marketplace.</div>\n\n<div><br />\n<span style="font-size: 14px\;"><b>Networking Session</b></span><br />\n3:45 - 5:00pm<br />\nSheryl Bindelglass\, SherylGolf\n<div style="margin-left: 40px\;">&nbsp\;</div>\n\n<div style="margin-left: 40px\;">Meet with that day&#39\;s speakers to ask follow-up questions\, and mix and mingle with attendees. Led by Sheryl Bindelglass\, you will meet colleagues from around the industry and region\, and get tips for networking both at this event and at future events.&nbsp\;</div>\n</div>\n
LOCATION:Sheraton Springfield Monarch Place Hotel Considered a hub among New England cities\, Springfield is convenient to Boston\, New York City\, Albany (NY)\, Hartford (CT)\, Worcester (MA)\, and Providence (RI). We are located directly off Interstate 91 and are only minutes from the Massachusetts Turnpike\, Interstate 90\, as well as the Basketball Hall of Fame\, Six Flags New England\, and Eastern States Exposition. To book your room reservation\, please go to: https://www.starwoodmeeting.com/Book/NEAAPA
UID:e.9242.17
SEQUENCE:3
DTSTAMP:20260424T231514Z
URL:http://neaapa.memberzone.com/events/details/104th-anniversary-annual-meeting-education-conference-17
END:VEVENT

END:VCALENDAR
