BEGIN:VCALENDAR
VERSION:2.0
PRODID:-//ChamberMaster//Event Calendar 2.0//EN
METHOD:PUBLISH
X-PUBLISHED-TTL:P3D
REFRESH-INTERVAL:P3D
CALSCALE:GREGORIAN
BEGIN:VEVENT
DTSTART;VALUE=DATE:20180312
DTEND;VALUE=DATE:20180317
TRANSP:TRANSPARENT
X-MICROSOFT-CDO-ALLDAYEVENT:TRUE
SUMMARY:105th Anniversary Education Conference & Annual Meeting including NAARSO Outreach Safety School and an IAAPA Regional Meeting
DESCRIPTION:NEAAPA is teaming up with NAARSO and IAAPA at our 2018 Education Conference and Annual Meeting. Participate in excellent sessions with top-notch speakers and network with other industry professionals from around the region. Don't miss the Hall of Fame induction and the President's Dinner.\n\n\n\nParticipating in NAARSO Outreach Safety School will provide attendees with 32 hours of CEUs.\n\n\n\nDownload the schedule for NAARSO Outreach Safety School and the NEAAPA Education Conference & Annual Meeting \n\n\n\nMonday\, March 12\, 2018\n\n8:00am to 5:00pm - NAARSO Educational Sessions covering ride inspection\, electric inspection\, hydraulics and pneumatics\, personal safety\, operations\, inspection tools\, restraints\, foam padding\, and coasters.\n\n3:00pm to 5:00pm - IAAPA Regional Meeting covering legislative activity and updates.\n\n6:00pm - Reception for all NAARSO and NEAAPA Attendees - sponsored by IAAPA\n\n\n\nTuesday\, March 13\, 2018\n\n8:00am to 5:00pm - NAARSO Educational Sessions covering ride inspection\, electric inspection\, hydraulics and pneumatics\, personal safety\, operations\, inspection tools\, restraints\, foam padding\, and coasters.\n\n9:00am to 5:00pm - NEAAPA Educational Sessions & Vendor Showcase\n\nLouie Gravance - Former Disney Institute\n\nLouie Gravance learned at an age earlier than most the necessary building blocks to create a successful career in one of the most challenging industries: entertainment. At only twelve years old\, he began working in California as a stage\, film and television actor and would go on to appear in over thirty-five national television commercials. In 1987\, Gravance was offered a summer job with one of the entertainment industry's most successful conglomerates\, The Walt Disney Company\, beginning as a comic at Disneyland in Anaheim\, California and soon thereafter embarking on a twelve-year adventure at the Walt Disney World Resort in Orlando\, Florida.\n\nThrough his company Louie Gravance Creative Content\, with offices in Orlando\, Florida and Maui\, Hawaii\, Gravance continues to offer clients unique training programs with incorporated themes such as "Great Service Serves the Server First!" and powerful initiatives including "NOW Management" and "The Service Power". And while corporate and employee growth is serious business\, humor and heart remain at the center of every Louie Gravance presentation because he also knows\, from experience\, there's no business BUT show business!\n\n\n\nCrisis Management   Incident Response and Communication\n\nPresenters: Steve McPherson\, Security & EMS Manager of Canobie Lake Park and Chris Nicoli\, Brand Manager of Canobie Lake Park\n\nThis eye-opening session will discuss the complete scope of incident management from start to finish.  Is your facility prepared for a variety of situations ranging from handling a power failure to a more substantial threat or security event?  This session will focus on the two simultaneous priorities: 1) Handling the event in real time on the ground\, and 2) Crafting your messaging and communication to minimize the impact on your brand.\n\n\n\nRevenue Generating Round Table   Per Caps\, Upcharges\, and more!\n\nPanelists: Dave Sugrue\, GM of Ocean Beach Park\, Dave Oberlander\, SVP of Centerplate\, and Cindy Brewer-Lavoie\, Owner of Southwick's Zoo\n\nIn this interactive\, round table style discussion\, our industry leading panelists will approach topics such as: 1) Identifying and tracking per caps\, 2) Implementing unique experiences and items as upcharges\, 3) Using innovative technology to increase efficiency and revenue\, 4) Reducing shrinkage to increase your bottom line\, 4) Negotiating favorable terms with vendors\, and 5) Best practices for overall revenue management.\n\n\n\nVendor Showcase\n\nLed by Kevin Estrela\, meet with NEAAPA members that are going to get you up to speed on their latest products and offerings so you will be able to hit the ground running for the 2018 summer season. You'll hear from members like Allied Specialty Insurance\, Dippin' Dots\, FetchRev\, Naughton Insurance\, Premier Rides\, S&S-Sansei Technologies\, and Windish Music and Productions.\n\nNEAAPA Annual Meeting Dinner\n\nReception begins at 6:00pm\n\nDinner\, Annual Business Meeting\, Awards\, and Hall of Fame induction of George Frantzis II begins at 7:00pm\n\n Wednesday\, March 14\, 2018\n\n8:00 to 10:00am - NEAAPA Breakfast\n\n 8:00am to 5:00pm - NAARSO Educational Sessions covering ride inspection\, electric inspection\, hydraulics and pneumatics\, personal safety\, operations\, inspection tools\, restraints\, foam padding\, and coasters.\n\nThursday\, March 15\, 2018\n\n8:00am to 5:00pm - NAARSO Educational Sessions covering ride inspection\, electric inspection\, hydraulics and pneumatics\, personal safety\, operations\, inspection tools\, restraints\, foam padding\, and coasters.\n\n\n\nFriday\, March 16\, 2018\n\n8:00am to 12:00pm - NAARSO Intensive Review/Study\n\n1:00pm - NAARSO Certification Testing (Testing is additional fee) \n\n\n\nFees/Admission :\n\nNAARSO Outreach Safety School and NEAAPA Annual Meeting Dinner and IAAPA Regional Meeting - March 12-16\, 2018\n\nNAARSO Outreach Safety School includes 32 hours of intensive training with an option of 4 additional hours or intensive study time with the availability of taking a certification test (Additional $150 fee).\n\nIncludes meals and networking events (breakfast on Monday\, Tuesday\, Wednesday\; lunch on Monday\, Tuesday\, Wednesday\; dinner and receptions on Monday and Tuesday only)\n\n IAAPA & NEAAPA Members and State Government Officials: $549.00 per person\n\nNon-members: $599.00 per person\n\nOptional Test Prep & Test: $150.00 per person\n\n\n\nNEAAPA Education Conference & Annual Meeting Dinner and IAAPA Regional Meeting - March 12-14\, 2018\n\nParticipate in the IAAPA Regional Meeting on Monday\, March 12 followed by a reception that evening\, and attend the NEAAPA Education Conference and Annual Meeting Dinner on Tuesday\, with breakfast on Wednesday. Includes meals and networking events (breakfast on Tuesday and Wednesday\; lunch on Tuesday\; dinner and receptions on Monday and Tuesday)\n\n IAAPA & NEAAPA Members and State Government Officials: $249.00 per person\n\nNon-members: $299.00 per person\n\n\n\nAnnual Meeting Dinner including Cocktails / Hors d?oeuvres on Tuesday. March 13\, 2018 only\n\nAttend the NEAAPA Annual Meeting Dinner and Reception\n\n IAAPA & NEAAPA Members and State Government Officials: $129.00 per person\n\nNon-members: $149.00 per person
X-ALT-DESC;FMTTYPE=text/html:<p><span style="font-size:16px\;">NEAAPA&nbsp\;is teaming up with NAARSO&nbsp\;and IAAPA at our 2018 Education Conference and Annual Meeting. Participate in&nbsp\;excellent sessions with top-notch speakers and network with other industry professionals from around the region. Don&#39\;t miss the Hall of Fame induction and the President&#39\;s Dinner.<br />\n<br />\nParticipating in&nbsp\;NAARSO Outreach Safety School will provide attendees with 32 hours of CEUs.<br />\n<br />\nDownload the schedule for&nbsp\;<a href="https://chambermaster.blob.core.windows.net/userfiles/UserFiles/chambers/9242/File/NAARSOEducationConferenceAgenda.pdf">NAARSO&nbsp\;Outreach Safety School</a> and the <a href="https://chambermaster.blob.core.windows.net/userfiles/UserFiles/chambers/9242/File/NEAAPAEducationConferenceAgenda.pdf">NEAAPA&nbsp\;Education Conference &amp\; Annual Meeting</a> </span><br />\n<br />\n<strong><span style="font-size:14px\;">Monday\, March 12\, 2018</span></strong><br />\n8:00am&nbsp\;to 5:00pm -&nbsp\;NAARSO<span style="font-size: 14px\;">&nbsp\;Educational Sessions&nbsp\;covering ride inspection\, electric inspection\, hydraulics and pneumatics\, personal safety\, operations\, inspection tools\, restraints\, foam padding\, and coasters.</span><br />\n<span style="font-size:14px\;">3:00pm&nbsp\;to 5:00pm&nbsp\;-&nbsp\;IAAPA&nbsp\;Regional Meeting&nbsp\;covering legislative activity and updates.<br />\n6:00pm&nbsp\;- Reception for all NAARSO and NEAAPA&nbsp\;Attendees - sponsored by IAAPA<br />\n<br />\n<strong>Tuesday\, March 13\, 2018</strong></span><br />\n8:00am&nbsp\;to 5:00pm&nbsp\;-&nbsp\;NAARSO<span style="font-size: 14px\;">&nbsp\;Educational Sessions&nbsp\;covering&nbsp\;</span><span style="font-size:14px\;">ride inspection\, electric inspection\, hydraulics and pneumatics\, personal safety\, operations\, inspection tools\, restraints\, foam padding\, and coasters.</span><br />\n<span style="font-size:14px\;">9:00am&nbsp\;to 5:00pm&nbsp\;-&nbsp\;NEAAPA Educational Sessions &amp\; Vendor Showcase</span></p>\n\n<p style="margin-left: 40px\;"><span style="font-size:12px\;"><span style="font-size:14px\;"><strong>Louie Gravance - Former Disney Institute</strong><br />\n<span style="font-size:12px\;">Louie Gravance learned at an age earlier than most the necessary building blocks to create a successful career in one of the most challenging industries: entertainment. At only twelve years old\, he began working in California as a stage\, film and television actor and would go on to appear in over thirty-five national television commercials. In 1987\, Gravance was offered a summer job with one of the entertainment industry&#39\;s most successful conglomerates\, The Walt Disney Company\, beginning as a comic at Disneyland in Anaheim\, California and soon thereafter embarking on a twelve-year adventure at the Walt Disney World Resort in Orlando\, Florida.<br />\nThrough his company Louie Gravance Creative Content\, with offices in Orlando\, Florida and Maui\, Hawaii\, Gravance continues to offer clients unique training programs with incorporated themes such as &quot\;Great Service Serves the Server First!&quot\; and powerful initiatives including &quot\;NOW Management&quot\; and &quot\;The Service Power&quot\;. And while corporate and employee growth is serious business\, humor and heart remain at the center of every Louie Gravance presentation because he also knows\, from experience\, there&#39\;s no business BUT show business!</span><br />\n<br />\n<strong>Crisis Management &ndash\; Incident Response and Communication</strong></span><br />\n<em>Presenters: Steve McPherson\, Security &amp\; EMS Manager of Canobie Lake Park and Chris Nicoli\, Brand Manager of Canobie Lake Park</em><br />\nThis eye-opening session will discuss the complete scope of incident management from start to finish.&nbsp\; Is your facility prepared for a variety of situations ranging from handling a power failure to a more substantial threat or security event? &nbsp\;This session will focus on the two simultaneous priorities: 1) Handling the event in real time on the ground\, and 2) Crafting your messaging and communication to minimize the impact on your brand.<br />\n<br />\n<strong><span style="font-size:14px\;">Revenue Generating Round Table &ndash\; Per Caps\, Upcharges\, and more!</span></strong><br />\n<em>Panelists: Dave Sugrue\, GM of Ocean Beach Park\, Dave Oberlander\, SVP of Centerplate\, and Cindy Brewer-Lavoie\, Owner of Southwick&rsquo\;s Zoo</em><br />\nIn this interactive\, round table style discussion\, our industry leading panelists will approach topics such as: 1) Identifying and tracking per caps\, 2) Implementing unique experiences and items as upcharges\, 3) Using innovative technology to increase efficiency and revenue\, 4) Reducing shrinkage to increase your bottom line\, 4) Negotiating favorable terms with vendors\, and 5) Best practices for overall revenue management.</span><br />\n<br />\n<span style="font-size:14px\;"><strong>Vendor Showcase</strong></span><br />\n<span style="font-size:12px\;">Led by Kevin Estrela\, meet with NEAAPA members that are going to get you up to speed on their latest products and offerings so you will be able to hit the ground running for the 2018 summer season. You&#39\;ll hear from members like Allied Specialty Insurance\, Dippin&#39\; Dots\, FetchRev\, Naughton Insurance\, Premier Rides\, S&amp\;S-Sansei Technologies\, and Windish Music and Productions.</span></p>\n\n<p><span style="font-size:14px\;">NEAAPA&nbsp\;Annual Meeting Dinner</span></p>\n\n<p style="margin-left: 40px\;">Reception begins at 6:00pm<br />\nDinner\, Annual Business Meeting\, Awards\, and Hall of Fame induction&nbsp\;of George Frantzis&nbsp\;II&nbsp\;begins at 7:00pm</p>\n\n<p><span style="font-size:14px\;"><strong>&#8203\;Wednesday\, March 14\, 2018</strong><br />\n8:00 to 10:</span>00am -&nbsp\;<span style="font-size:14px\;">NEAAPA&nbsp\;</span><span style="font-size:14px\;">Breakfast<br />\n&#8203\;</span>8:00am&nbsp\;to 5:00pm&nbsp\;-&nbsp\;NAARSO<span style="font-size:14px\;">&nbsp\;Educational Sessions&nbsp\;covering ride inspection\, electric inspection\, hydraulics and pneumatics\, personal safety\, operations\, inspection tools\, restraints\, foam padding\, and coasters.</span></p>\n\n<div><strong><span style="font-size: 14px\;">Thursday\, March 15\, 2018</span></strong><br />\n8:00am&nbsp\;to 5:00pm&nbsp\;-&nbsp\;NAARSO<span style="font-size: 14px\;">&nbsp\;Educational Sessions&nbsp\;covering ride inspection\, electric inspection\, hydraulics and pneumatics\, personal safety\, operations\, inspection tools\, restraints\, foam padding\, and coasters.</span><br />\n<br />\n<strong><span style="font-size: 14px\;">Friday\, March 16\, 2018</span></strong><br />\n8:00am&nbsp\;to 12:00pm&nbsp\;-&nbsp\;NAARSO<span style="font-size: 14px\;">&nbsp\;Intensive Review/Study<br />\n1:</span>00pm<span style="font-size: 14px\;">&nbsp\;-&nbsp\;</span>NAARSO<span style="font-size: 14px\;">&nbsp\;Certification Testing (Testing is additional fee)&#8203\;</span></div>\n\n<h3><br />\n<u><strong>Fees/Admission&#8203\;:</strong></u></h3>\n\n<div><strong>NAARSO&nbsp\;Outreach Safety School and&nbsp\;NEAAPA&nbsp\;Annual Meeting Dinner&nbsp\;and&nbsp\;IAAPA&nbsp\;Regional Meeting - March 12-16\, 2018</strong><br />\nNAARSO&nbsp\;Outreach Safety School includes 32 hours of intensive training with an option of 4 additional hours or intensive&nbsp\;study time with the availability&nbsp\;of taking a certification test (Additional $150 fee).<br />\nIncludes meals and networking events (breakfast on Monday\, Tuesday\, Wednesday\; lunch on Monday\, Tuesday\, Wednesday\; dinner and receptions on Monday and Tuesday only)<br />\n&#8203\;IAAPA&nbsp\;&amp\;&nbsp\;NEAAPA&nbsp\;Members and State Government Officials: $549.00 per person<br />\nNon-members: $599.00 per person<br />\nOptional Test Prep &amp\; Test: $150.00 per person<br />\n<br />\n<strong>NEAAPA&nbsp\;Education Conference &amp\; Annual Meeting Dinner and&nbsp\;IAAPA&nbsp\;Regional Meeting - March 12-14\, 2018</strong><br />\nParticipate in the&nbsp\;IAAPA&nbsp\;Regional Meeting on Monday\, March 12 followed by a reception that evening\, and attend the&nbsp\;NEAAPA&nbsp\;Education Conference and Annual Meeting Dinner on Tuesday\, with breakfast on Wednesday.&nbsp\;Includes meals and networking&nbsp\;events (breakfast&nbsp\;on Tuesday and Wednesday\; lunch on Tuesday\; dinner and receptions on Monday and Tuesday)<br />\n&#8203\;IAAPA&nbsp\;&amp\;&nbsp\;NEAAPA&nbsp\;Members and State Government Officials: $249.00 per person<br />\nNon-members: $299.00 per person<br />\n<br />\n<strong>Annual Meeting Dinner including Cocktails / Hors d?oeuvres on Tuesday. March 13\, 2018 only</strong><br />\nAttend the&nbsp\;NEAAPA&nbsp\;Annual Meeting Dinner and Reception<br />\n&#8203\;IAAPA&nbsp\;&amp\;&nbsp\;NEAAPA&nbsp\;Members and State Government Officials: $129.00 per person<br />\nNon-members: $149.00 per person</div>\n
LOCATION:Hilton Mystic - Historic Mystic\, Connecticut Discover the historic charm of maritime New England from the Hilton Mystic hotel. Our hotel is the ideal coastal stopping point between New York City and Boston and is within walking distance of many popular attractions. Immortalized in the classic Hollywood movie 'Mystic Pizza'\, there is plenty to explore in this seaside town. Experience first-class amenities and services such as on-site dining and versatile event space at our Mystic hotel. To book your room reservation\, please go to: http://www.hilton.com/en/hi/groups/personalized/M/MYSMHHF-NEAAPA-20180312/index.jhtml
UID:e.9242.25
SEQUENCE:3
DTSTAMP:20260423T235837Z
URL:http://neaapa.memberzone.com/events/details/105th-anniversary-education-conference-annual-meeting-including-iaapa-regional-meeting-naarso-outreach-safety-school-25
END:VEVENT

END:VCALENDAR
