BEGIN:VCALENDAR
VERSION:2.0
PRODID:-//ChamberMaster//Event Calendar 2.0//EN
METHOD:PUBLISH
X-PUBLISHED-TTL:P3D
REFRESH-INTERVAL:P3D
CALSCALE:GREGORIAN
BEGIN:VEVENT
DTSTART;VALUE=DATE:20190318
DTEND;VALUE=DATE:20190321
TRANSP:TRANSPARENT
X-MICROSOFT-CDO-ALLDAYEVENT:TRUE
SUMMARY:106th Anniversary Education Conference & Annual Meeting
DESCRIPTION:Participate in excellent sessions with top-notch speakers and network with other industry professionals from around the region. Don't miss the Hall of Fame induction and the President's Dinner.\n\n \n\nSCHEDULE\n\n\n\nMonday\, March 18\, 2019\n\n3:00pm - IAAPA Regional Meeting focusing on National and Regional Advocacy and North American initiatives \n\n - Presented by John Hallenbeck and Erika Scheffer\n\n6:00pm - Reception Attendees\n\n\n\nTuesday\, March 19\, 2019\n\n9:00am -  NEAAPA Educational Programs\n\n\n	\n	NEAAPA Education Sessions\n	\n	\n		\n			Zap The Gap: 5 Ways To Retain New Employees\n			\n				How To Keep Employees Motivated Within the First 90 Days\n				Stay Interviews Instead of Exit Interviews\n			\n			\n			Meagan Johnson\n\n			Meagan Johnson\, Inc.\n		\n		\n			Cashless Guest Experiences - The Future Is Here\n			\n				Frictionless transactions\n				Reduce shrinkage while maximizing speed of service\n				Increasing Security and IT infrastructure throughout facilities\n			\n			\n			Anthony Palermo\,\n\n			Connect&Go/Park Pass\n		\n		\n			VENDOR SHOWCASE\n			 \n		\n		\n			Make Your Marketing Work\n			\n				Get your destination featured on national television\, magazines\, and online with paying a dime!\n				Stop paying influences and start paying dividends\n			\n			\n			Taryn Scher\n\n			TK PR\n		\n		\n			Post Labor Day School Start Report and New England Employment Landscape\n			\n				In-depth dive into the "Economic\, Fiscal\, Labor Market\, School Calendar Impact" Report\n				Ways to work with legislators within your region\n			\n			\n			Henry Veilleux\n\n			Sheehan Phinney Capitol\n\n			Brian Gottlob\n\n			Pole Con Research\n		\n	\n\n\n\n\n12:00pm - Luncheon\n\n12:30pm - NEAAPA Board of Directors Meeting\n\n2:00pm - NEAAPA Vendor Showcase\n\n6:00pm - Cocktail Reception \n\n7:00pm - Dinner\, Annual Business Meeting including election of Officers & Directors\, and the Hall of Fame Induction\n\n\n\nWednesday\, March 20\, 2019\n\n8:00am to 10:00am - NEAAPA President's Breakfast
X-ALT-DESC;FMTTYPE=text/html:<p><span style="font-size:16px\;">Participate in&nbsp\;excellent sessions with top-notch speakers and network with other industry professionals from around the region. Don&#39\;t miss the Hall of Fame induction and the President&#39\;s Dinner.</span><br />\n&nbsp\;</p>\n\n<p style="text-align: center\;"><u><strong><span style="font-size:24px\;">SCHEDULE</span></strong></u></p>\n\n<p><br />\n<strong>Monday\, March 18\, 2019</strong><br />\n3:00pm&nbsp\;-&nbsp\;IAAPA Regional Meeting&nbsp\;focusing on National and Regional Advocacy and North American initiatives&nbsp\;<br />\n&nbsp\;- Presented by John Hallenbeck and Erika Scheffer<br />\n6:00pm - Reception Attendees<br />\n<br />\n<strong>Tuesday\, March 19\, 2019</strong><br />\n9:00am - &#8203\;NEAAPA Educational Programs</p>\n\n<table align="left" border="1" cellpadding="1" cellspacing="1">\n	<caption>\n	<div style="text-align: center\;"><strong><span style="font-size:16px\;">NEAAPA Education Sessions</span></strong></div>\n	</caption>\n	<tbody>\n		<tr>\n			<td style="width: 446px\;"><span style="font-size: 14px\;"><strong>Zap The Gap: 5 Ways To Retain New Employees</strong></span>\n			<ul>\n				<li><span style="font-size: 12px\;">How To Keep Employees Motivated Within the First 90 Days</span></li>\n				<li><span style="font-size: 12px\;">Stay Interviews Instead of Exit Interviews</span></li>\n			</ul>\n			</td>\n			<td style="vertical-align: top\;"><span style="font-size:12px\;">Meagan Johnson<br />\n			Meagan Johnson\, Inc.</span></td>\n		</tr>\n		<tr>\n			<td><strong><span style="font-size: 14px\;">Cashless Guest Experiences - The Future Is Here</span></strong>\n			<ul>\n				<li><span style="font-size: 12px\;">Frictionless transactions</span></li>\n				<li><span style="font-size: 12px\;">Reduce shrinkage while maximizing speed of service</span></li>\n				<li><span style="font-size: 12px\;">Increasing Security and IT infrastructure throughout facilities</span></li>\n			</ul>\n			</td>\n			<td style="vertical-align: top\;"><span style="font-size:12px\;">Anthony Palermo\,<br />\n			Connect&amp\;Go/Park Pass</span></td>\n		</tr>\n		<tr>\n			<td><strong><span style="font-size: 18px\;">VENDOR SHOWCASE</span></strong></td>\n			<td>&nbsp\;</td>\n		</tr>\n		<tr>\n			<td><strong><span style="font-size: 14px\;">Make Your Marketing Work</span></strong>\n			<ul>\n				<li><span style="font-size: 12px\;">Get your destination featured on national television\, magazines\, and online with paying a dime!</span></li>\n				<li><span style="font-size: 12px\;">Stop paying influences and start paying dividends</span></li>\n			</ul>\n			</td>\n			<td style="vertical-align: top\;"><span style="font-size:12px\;">Taryn Scher<br />\n			TK PR</span></td>\n		</tr>\n		<tr>\n			<td><strong><span style="font-size: 14px\;">Post Labor Day School Start Report and New England Employment Landscape</span></strong>\n			<ul>\n				<li><span style="font-size: 12px\;">In-depth dive into the &quot\;Economic\, Fiscal\, Labor Market\, School Calendar Impact&quot\; Report</span></li>\n				<li><span style="font-size: 12px\;">Ways to work with legislators within your region</span></li>\n			</ul>\n			</td>\n			<td style="vertical-align: top\;"><span style="font-size:12px\;">Henry Veilleux<br />\n			Sheehan Phinney Capitol<br />\n			Brian Gottlob<br />\n			Pole Con Research</span></td>\n		</tr>\n	</tbody>\n</table>\n\n<p><br />\n12:00pm - Luncheon<br />\n12:30pm&nbsp\;- NEAAPA Board of Directors Meeting<br />\n2:00pm&nbsp\;-&nbsp\;NEAAPA&nbsp\;Vendor Showcase<br />\n6:00pm - Cocktail Reception&nbsp\;<br />\n7:00pm&nbsp\;- Dinner\, Annual Business Meeting including election of Officers &amp\; Directors\, and the Hall of Fame Induction<br />\n<br />\n<strong>Wednesday\, March 20\, 2019</strong><br />\n8:00am&nbsp\;to 10:00am&nbsp\;-&nbsp\;NEAAPA President&#39\;s Breakfast</p>\n
LOCATION:Sheraton Springfield Monarch Place Hotel - Springfield\, Massachusetts Sheraton Springfield Monarch Place Hotel welcomes you to Massachusetts with contemporary accommodations\, friendly service\, and outstanding nearby attractions. Located in the heart of downtown\, enjoy the region's most popular points of interests\, including MGM Springfield\, Dr. Seuss Museum\, Basketball Hall of Fame\, Riverfront Park\, and Six Flags New England. Relax and unwind in our spacious\, well-appointed rooms and suites\, which feature complimentary Internet access and thoughtful amenities. Savor a meal at one of our hotel's two restaurants or keep fit with a visit to the gym and a swim in the indoor pool. To book your room\, please call Francesca at 413-233-9161.
UID:e.9242.35
SEQUENCE:3
DTSTAMP:20260422T223929Z
URL:http://neaapa.memberzone.com/events/details/106th-anniversary-education-conference-annual-meeting-35
END:VEVENT

END:VCALENDAR
