BEGIN:VCALENDAR
VERSION:2.0
PRODID:-//ChamberMaster//Event Calendar 2.0//EN
METHOD:PUBLISH
X-PUBLISHED-TTL:P3D
REFRESH-INTERVAL:P3D
CALSCALE:GREGORIAN
BEGIN:VEVENT
DTSTART;VALUE=DATE:20170108
DTEND;VALUE=DATE:20170114
TRANSP:TRANSPARENT
X-MICROSOFT-CDO-ALLDAYEVENT:TRUE
SUMMARY:2017 AIMS Safety Seminar
DESCRIPTION:The annual AIMS International Safety Seminar is a comprehensive safety-training experience for individuals responsible for the care and safety of the amusement industry's guests. The seminar is world-renowned for its diverse curriculum and the quality of its volunteer instructors\; classes are guided by today's top industry professionals.\n\nAttendees build tailored course curricula that best suit their needs and the needs of their employers. Precious safety information is carried home and shared with colleagues and co-workers back on the job. Attendees also build long-lasting relationships with instructors and their counterparts across the globe. This invaluable networking opportunity enables the exchange of information between people performing the same functions at distant locations.\n\nThe AIMS Safety Seminar has both sit-down and hands-on classes that will surely round any individual's experience. This valued participation is a requisite for all professionals in the amusement industry.
X-ALT-DESC;FMTTYPE=text/html:<p class="bodyText" style="font-family: Arial\, Helvetica\, sans-serif\; font-size: 12px\; color: rgb(0\, 0\, 0)\;">The annual AIMS International Safety Seminar is a comprehensive safety-training experience for individuals responsible for the care and safety of the amusement industry&#39\;s guests. The seminar is world-renowned for its diverse curriculum and the quality of its volunteer instructors\; classes are guided by today&#39\;s top industry professionals.</p>\n\n<p class="bodyText" style="font-family: Arial\, Helvetica\, sans-serif\; font-size: 12px\; color: rgb(0\, 0\, 0)\;">Attendees build tailored course curricula that best suit their needs and the needs of their employers. Precious safety information is carried home and shared with colleagues and co-workers back on the job. Attendees also build long-lasting relationships with instructors and their counterparts across the globe. This invaluable networking opportunity enables the exchange of information between people performing the same functions at distant locations.</p>\n\n<p class="bodyText" style="font-family: Arial\, Helvetica\, sans-serif\; font-size: 12px\; color: rgb(0\, 0\, 0)\;">The AIMS Safety Seminar has both sit-down and hands-on classes that will surely round any individual&#39\;s experience. This valued participation is a requisite for all professionals in the amusement industry.</p>\n
LOCATION:Doubletree by Hilton Orlando at SeaWorld 10100 International Drive Orlando\, FL 32821 Phone: 407-354-5074 AIMS attendees can reserve rooms for a special rate of $99 per night by clicking here.
UID:e.9242.13
SEQUENCE:3
DTSTAMP:20260425T023406Z
URL:http://neaapa.memberzone.com/events/details/2017-aims-safety-seminar-13
END:VEVENT

END:VCALENDAR
