BEGIN:VCALENDAR
VERSION:2.0
PRODID:-//ChamberMaster//Event Calendar 2.0//EN
METHOD:PUBLISH
X-PUBLISHED-TTL:P3D
REFRESH-INTERVAL:P3D
CALSCALE:GREGORIAN
BEGIN:VEVENT
DTSTART;VALUE=DATE:20170908
DTEND;VALUE=DATE:20170910
TRANSP:TRANSPARENT
X-MICROSOFT-CDO-ALLDAYEVENT:TRUE
SUMMARY:2017 Golden Ticket Awards
DESCRIPTION:Amusement Today\, Lake Compounce and Quassy \n\ninvite the industry to the \n\n2017 Golden Ticket Awards\nAmusement Today\, Lake Compounce\, and Quassy Amusement Park invite working professionals in the amusement industry such as park owners\, operators and management and ride manufacturers\, designers\, suppliers and vendors\, to be part of the fun at "The Networking Event of the Year" during the 2017 Golden Ticket Awards on Friday and Saturday\, Sept. 8-9.\n\n\n\nGTA attendees are encouraged to register for the event at www.goldenticketawards.com and to make reservations for hotel accommodations at one of the two Host Hotels: the Doubletree by Hilton in Bristol\, Conn.\, or Homewood Suites by Hilton in Southington\, Conn. Special discounted rates are available at each property by identifying yourself as a Golden Ticket Awards guest. Please refer to www.goldenticketawards.com for detailed information and rates. The deadline for hotel reservations is August 23\, 2017!\n\n\n\n"I'd like to personally extend the invitation to our industry to join us in what promises to be a wonderful weekend in Connecticut\," says Gary Slade\, publisher and editor-in-chief of Amusement Today. "Now is the time to register and secure your hotel reservation for the 20th annual year of the Golden Ticket Awards."\n\n\n\nThe Host Parks\, Lake Compounce and Quassy Amusement Park\, are busy gearing up for an unforgettable two days. The Golden Ticket Awards are presented to the "Best of the Best" in the amusement industry and are calculated from an international poll conducted by Amusement Today.\n\n\n\n\n\nHotel Reservations\n\nThe Double Tree by Hilton (Bristol\, Conn.)\n\nA special discounted rate for GTA attendees is available at the Double Tree by Hilton (Bristol\, Conn.). Guests may view/book the following rates by calling (860) 589-7766 (mention the "Golden Ticket Room Block" when calling) or using group code GTA online at doubletreebristol.com. \n\nRates - 2017 Golden Ticket Awards\n\nStandard Room - $149\n\nDeluxe Room - $169\n\nSuite - $209\n\n\n\nThese rates are based on general availability and will appear as long as the property has open inventory.\n\n---\n\nHomewood Suites by Hilton (Southington\, Conn.)\n\nGuests attending the 2017 Golden Ticket Awards may also stay at the Homewood Suites by Hilton located in Southington\, Connecticut.\n\nGuests can reserve their room at the Homewood Suits by Hilton at the special Golden Ticket Awards rate online at this link.\n\n\n\nThe deadline for hotel reservations is August 23\, 2017!
X-ALT-DESC;FMTTYPE=text/html:<h1 style="text-align: center\;">Amusement Today\,&nbsp\;Lake Compounce and Quassy&nbsp\;<br />\ninvite the industry to the&nbsp\;<br />\n2017 Golden Ticket Awards</h1>\n<a href="http://www.amusementtoday.com">Amusement Today</a>\, <a href="http://www.lakecompounce.com">Lake Compounce</a>\, and <a href="http://www.quassy.com">Quassy Amusement Park</a> invite working professionals in the amusement industry such as park owners\, operators and management and ride manufacturers\, designers\, suppliers and vendors\, to be part of the fun at &quot\;The Networking Event of the Year&quot\; during the&nbsp\;2017 Golden Ticket Awards&nbsp\;on Friday and Saturday\, Sept. 8-9.<br />\n<br />\nGTA attendees are encouraged to register for the event at <a href="http://www.goldenticketawards.com">www.goldenticketawards.com</a> and to make reservations for hotel accommodations at one of the two Host Hotels: the Doubletree by Hilton in Bristol\, Conn.\, or Homewood Suites by Hilton in Southington\, Conn. Special discounted rates are available at each property by identifying yourself as a Golden Ticket Awards guest. Please refer to&nbsp\;www.goldenticketawards.com&nbsp\;for detailed information and rates. The deadline for hotel reservations is August 23\, 2017!<br />\n<br />\n&quot\;I&#39\;d like to personally extend the invitation to our industry to join us in what promises to be a wonderful weekend in Connecticut\,&quot\; says Gary Slade\, publisher and editor-in-chief of&nbsp\;Amusement Today. &quot\;Now is the time to register and secure your hotel reservation for the 20th annual year of the Golden Ticket Awards.&quot\;<br />\n<br />\nThe Host Parks\, Lake Compounce and Quassy Amusement Park\, are busy gearing up for an unforgettable two days. The Golden Ticket Awards are presented to the &quot\;Best of the Best&quot\; in the amusement industry and are calculated from an international poll conducted by Amusement Today.<br />\n<br />\n<br />\n<span style="font-size:16px\;"><strong>Hotel Reservations</strong></span><br />\n<strong>The Double Tree by Hilton (Bristol\, Conn.)</strong><br />\nA special discounted rate for GTA attendees is available at the Double Tree by Hilton (Bristol\, Conn.). Guests may view/book the following rates by calling (860) 589-7766 (mention the &quot\;Golden Ticket Room Block&quot\; when calling) or using group&nbsp\;code&nbsp\;GTA&nbsp\;online at&nbsp\;<a href="http://doubletreebristol.com">doubletreebristol.com</a>.&nbsp\;<br />\nRates&nbsp\;-&nbsp\;2017 Golden Ticket Awards<br />\nStandard Room&nbsp\;- $149<br />\nDeluxe Room&nbsp\;- $169<br />\nSuite - $209<br />\n<br />\nThese rates are based on general availability and will appear as long as the property has open inventory.<br />\n---<br />\n<strong>Homewood Suites by Hilton (Southington\, Conn.)</strong><br />\nGuests attending the 2017 Golden Ticket Awards may also stay at the Homewood Suites by Hilton located in Southington\, Connecticut.<br />\nGuests can reserve their room at the Homewood Suits by Hilton at the special Golden Ticket Awards rate&nbsp\;<a href="http://homewoodsuites.hilton.com/en/hw/groups/personalized/H/HFDSTHW-LAK-20170907/index.jhtml?WT.mc_id=POG">online at this link</a>.<br />\n<br />\n<strong>The deadline for hotel reservations is August 23\, 2017!</strong><br />\n&nbsp\;
LOCATION:Quassy Amusement Park in Middlebury\, Connecticut and Lake Compounce in Bristol\, Connecticut are hosting the Golden Ticket Awards.
UID:e.9242.22
SEQUENCE:3
DTSTAMP:20260424T114513Z
URL:http://neaapa.memberzone.com/events/details/2017-golden-ticket-awards-22
END:VEVENT

END:VCALENDAR
