BEGIN:VCALENDAR
VERSION:2.0
PRODID:-//ChamberMaster//Event Calendar 2.0//EN
METHOD:PUBLISH
X-PUBLISHED-TTL:P3D
REFRESH-INTERVAL:P3D
CALSCALE:GREGORIAN
BEGIN:VEVENT
DTSTART;VALUE=DATE:20181023
DTEND;VALUE=DATE:20181027
TRANSP:TRANSPARENT
X-MICROSOFT-CDO-ALLDAYEVENT:TRUE
SUMMARY:38th WWA Annual Symposium and Trade Show
DESCRIPTION:The only show exclusively for the water leisure industry!
X-ALT-DESC;FMTTYPE=text/html:The only show exclusively for the water leisure industry!
LOCATION:That it's located on Paradise Road is fitting\, as the Westgate Las Vegas Resort & Casino\, our headquarters hotel for 2018\, is a slice of Vegas paradise in itself. A block from the Strip and adjacent to the Las Vegas Convention Center\, the Westgate is a true destination resort\, treating 2.5 million guests each year to plush accommodations\, a fine collection of restaurants and a dynamic gaming experience. The resort\, which recently completed a property-wide $125 million renovation\, has more than 2\,900 rooms that feature opulent d cor\, wireless Internet service and spectacular views of the Las Vegas Valley. The host of guest amenities includes lighted tennis courts\, a full-service health club and spa\, beauty salon and a large\, heated pool.
UID:e.9242.31
SEQUENCE:3
DTSTAMP:20260423T064831Z
URL:http://neaapa.memberzone.com/events/details/38th-wwa-annual-symposium-and-trade-show-31
END:VEVENT

END:VCALENDAR
