BEGIN:VCALENDAR
VERSION:2.0
PRODID:-//ChamberMaster//Event Calendar 2.0//EN
METHOD:PUBLISH
X-PUBLISHED-TTL:P3D
REFRESH-INTERVAL:P3D
CALSCALE:GREGORIAN
BEGIN:VEVENT
DTSTART;VALUE=DATE:20191004
DTEND;VALUE=DATE:20191007
TRANSP:TRANSPARENT
X-MICROSOFT-CDO-ALLDAYEVENT:TRUE
SUMMARY:Columbus Day Fly-In
DESCRIPTION:This annual hang gliding and paragliding competition and celebration is now in its 45th year. We'll be hosting a variety of air games\, a cook-off\, and more. We hope you'll join us this Columbus Day weekend in New England! It's the perfect time and destination to see the beautiful fall foliage.
X-ALT-DESC;FMTTYPE=text/html:This annual hang gliding and paragliding competition and celebration is now in its 45th year. We&#39\;ll be hosting a variety of air games\, a cook-off\, and more. We hope you&#39\;ll join us this Columbus Day weekend in New England! It&#39\;s the perfect time and destination to see the beautiful fall foliage.&nbsp\;
LOCATION:Morningside Flight Park 357 Morningside Lane Charlestown\, NH 03603
UID:e.9242.42
SEQUENCE:3
DTSTAMP:20260422T061333Z
URL:http://neaapa.memberzone.com/events/details/columbus-day-fly-in-42
END:VEVENT

END:VCALENDAR
