BEGIN:VCALENDAR
VERSION:2.0
PRODID:-//ChamberMaster//Event Calendar 2.0//EN
METHOD:PUBLISH
X-PUBLISHED-TTL:P3D
REFRESH-INTERVAL:P3D
CALSCALE:GREGORIAN
BEGIN:VEVENT
DTSTART;VALUE=DATE:20190408
DTEND;VALUE=DATE:20190410
TRANSP:TRANSPARENT
X-MICROSOFT-CDO-ALLDAYEVENT:TRUE
SUMMARY:IAAPA Advocacy Days 2019
DESCRIPTION:About the Program\n\n\n\nIAAPA U.S. Advocacy Days is the attractions industry's annual opportunity to communicate to key policy makers pressing priority issues affecting the industry. This two-day event offers IAAPA U.S. members a unique opportunity to interact with lawmakers and staff on Capitol Hill.\n\n\n\n\n\nWhy is Your Attendance Important?\n\n\n\nThis is an important opportunity for the attractions industry to directly engage with their lawmakers and share the industry's position on how federal policies directly impact their businesses. In person meetings with your legislators provide an unparalleled opportunity to educate and inform lawmakers\, and are one of the best ways to ensure a strong and collective voice of the attractions industry is heard.
X-ALT-DESC;FMTTYPE=text/html:<strong style="color: rgb(0\, 0\, 0)\; font-family: Arial\, Helvetica\, sans-serif\; font-size: 12px\;"><span style="font-size: 14px\;">About the Program</span></strong><br />\n<br style="color: rgb(0\, 0\, 0)\; font-family: Arial\, Helvetica\, sans-serif\; font-size: 12px\;" />\n<span style="color: rgb(0\, 0\, 0)\; font-family: Arial\, Helvetica\, sans-serif\;">IAAPA U.S. Advocacy Days is the attractions industry&#39\;s annual opportunity to communicate to key policy makers pressing priority issues affecting the industry. This two-day event offers IAAPA U.S. members a unique opportunity to interact with lawmakers and staff on Capitol Hill.<br />\n<br />\n<br />\n<strong><span style="font-size: 14px\;">Why is Your Attendance Important?</span></strong></span><br />\n<br />\n<span style="color: rgb(0\, 0\, 0)\; font-family: Arial\, Helvetica\, sans-serif\;"><span style="font-family: Arial\;">This is an important opportunity for the attractions industry to directly engage with their lawmakers and share the industry&rsquo\;s position on how federal policies directly impact their businesses.&nbsp\;</span></span><span style="color: rgb(0\, 0\, 0)\; font-family: Arial\;">In person meetings with your legislators provide an unparalleled opportunity to educate and inform lawmakers\, and are one of the best ways to ensure a strong and collective voice of the attractions industry is heard.</span>
LOCATION:
UID:e.9242.40
SEQUENCE:3
DTSTAMP:20260422T193630Z
URL:http://neaapa.memberzone.com/events/details/iaapa-advocacy-days-2019-40
END:VEVENT

END:VCALENDAR
