BEGIN:VCALENDAR
VERSION:2.0
PRODID:-//ChamberMaster//Event Calendar 2.0//EN
METHOD:PUBLISH
X-PUBLISHED-TTL:P3D
REFRESH-INTERVAL:P3D
CALSCALE:GREGORIAN
BEGIN:VEVENT
DTSTART;VALUE=DATE:20190226
DTEND;VALUE=DATE:20190301
TRANSP:TRANSPARENT
X-MICROSOFT-CDO-ALLDAYEVENT:TRUE
SUMMARY:IAAPA Leadership Conference 2019
DESCRIPTION:There's no other opportunity quite like IAAPA Leadership Conference\; where you can cultivate long-lasting connections with industry veterans\, have quality\, one-on-one time with decision makers\, immerse yourself in rich cultural experiences\, and have exclusive park access. The presentations and events at IAAPA Leadership Conference 2019 will provide fresh perspectives and unique ideas you can use to enhance the guest experience and drive your business.
X-ALT-DESC;FMTTYPE=text/html:<span style="color: rgb(0\, 0\, 0)\; font-family: Arial\, Arial\, sans-serif\; font-size: 14px\;">There&rsquo\;s no other opportunity quite like IAAPA Leadership Conference\; where you can cultivate long-lasting connections with industry veterans\, have quality\, one-on-one time with decision makers\, immerse yourself in rich cultural experiences\, and have exclusive park access. The presentations and events at IAAPA Leadership Conference 2019 will provide fresh perspectives and unique ideas you can use to enhance the guest experience and drive your business.</span>
LOCATION:The IAAPA Leadership Conference 2019 will be held in Abu Dhabi/Dubai UAE.
UID:e.9242.33
SEQUENCE:3
DTSTAMP:20260422T225344Z
URL:http://neaapa.memberzone.com/events/details/iaapa-leadership-conference-2019-33
END:VEVENT

END:VCALENDAR
