BEGIN:VCALENDAR
VERSION:2.0
PRODID:-//ChamberMaster//Event Calendar 2.0//EN
METHOD:PUBLISH
X-PUBLISHED-TTL:P3D
REFRESH-INTERVAL:P3D
CALSCALE:GREGORIAN
BEGIN:VEVENT
DTSTART;VALUE=DATE:20170403
DTEND;VALUE=DATE:20170405
TRANSP:TRANSPARENT
X-MICROSOFT-CDO-ALLDAYEVENT:TRUE
SUMMARY:IAAPA US Advocacy Days 2017
DESCRIPTION:The IAAPA North American Government Relations Subcommittee invites you to participate in IAAPA U.S. Advocacy Days\, to be held on April 3-4\, 2017 at the Hyatt Place Washington DC/National Mall located in Washington\, D.C. The two-day event provides IAAPA members based in the United States with the opportunity to meet with influential members of the United States Congress\, and to discuss pressing priority issues affecting the U.S. attractions industry such as:\n\n\n\nAmusement Ride Safety\n\nJ-1 Summer Work and Travel program\n\nChanges to Fair Labor Standards Act Overtime Rules\n\nUnmanned Aerial System Regulations\n\nEconomic Nexus
X-ALT-DESC;FMTTYPE=text/html:The IAAPA North American Government Relations Subcommittee invites you to participate in IAAPA U.S. Advocacy Days\, to be held on April 3-4\, 2017 at the Hyatt Place Washington DC/National Mall located in Washington\, D.C.&nbsp\;The two-day event provides IAAPA members based in the United States with the opportunity to meet with influential members of the United States Congress\, and to discuss pressing priority issues affecting the U.S. attractions industry such as:<br />\n<br />\nAmusement Ride Safety<br />\nJ-1 Summer Work and Travel program<br />\nChanges to Fair Labor Standards Act Overtime Rules<br />\nUnmanned Aerial System Regulations<br />\nEconomic Nexus
LOCATION:Washington\, D.C.
UID:e.9242.16
SEQUENCE:3
DTSTAMP:20260424T214641Z
URL:http://neaapa.memberzone.com/events/details/iaapa-us-advocacy-days-2017-16
END:VEVENT

END:VCALENDAR
