BEGIN:VCALENDAR
VERSION:2.0
PRODID:-//ChamberMaster//Event Calendar 2.0//EN
METHOD:PUBLISH
X-PUBLISHED-TTL:P3D
REFRESH-INTERVAL:P3D
CALSCALE:GREGORIAN
BEGIN:VEVENT
DTSTART;VALUE=DATE:20170207
DTEND;VALUE=DATE:20170211
TRANSP:TRANSPARENT
X-MICROSOFT-CDO-ALLDAYEVENT:TRUE
SUMMARY:iROC School 2017
DESCRIPTION:iROC is the only Ride Operator Certification offered in the amusement industry today. It is a state of the art program developed by industry experts.
X-ALT-DESC;FMTTYPE=text/html:iROC is the only Ride Operator Certification offered in the amusement industry today. It is a state of the art program developed by industry experts.
LOCATION:We are excited to be hosted again by the famous Knott's Berry Farm in sunny Buena Park\, California.
UID:e.9242.15
SEQUENCE:3
DTSTAMP:20260425T004238Z
URL:http://neaapa.memberzone.com/events/details/iroc-school-2017-15
END:VEVENT

END:VCALENDAR
