BEGIN:VCALENDAR
VERSION:2.0
PRODID:-//ChamberMaster//Event Calendar 2.0//EN
METHOD:PUBLISH
X-PUBLISHED-TTL:P3D
REFRESH-INTERVAL:P3D
CALSCALE:GREGORIAN
BEGIN:VEVENT
DTSTART:20170327T220000Z
DTEND:20170328T000000Z
X-MICROSOFT-CDO-ALLDAYEVENT:FALSE
SUMMARY:NEAAPA President's Dinner 2017
DESCRIPTION:Join NEAAPA members in Springfield ahead of the NEAAPA Annual Meeting & Education Conference. This is an informal event. There will be a fixed menu that includes dinner and non-alcoholic beverages. Alcoholic beverages can be purchased at the bar adjacent to the private room.
X-ALT-DESC;FMTTYPE=text/html:Join NEAAPA members in Springfield ahead of the NEAAPA&nbsp\;Annual Meeting &amp\; Education Conference. This is an informal event. There will be a fixed menu that includes dinner and non-alcoholic beverages. Alcoholic beverages can be purchased at the bar adjacent to the private room.
LOCATION:Located inside the Sheraton Springfield next to the MVP Pub\, NEAAPA will have a private dining area with access to the full bar.
UID:e.9242.19
SEQUENCE:3
DTSTAMP:20260424T230824Z
URL:http://neaapa.memberzone.com/events/details/neaapa-president-s-dinner-2017-19
END:VEVENT

END:VCALENDAR
