BEGIN:VCALENDAR
VERSION:2.0
PRODID:-//ChamberMaster//Event Calendar 2.0//EN
METHOD:PUBLISH
X-PUBLISHED-TTL:P3D
REFRESH-INTERVAL:P3D
CALSCALE:GREGORIAN
BEGIN:VEVENT
DTSTART:20160523T130000Z
DTEND:20160523T210000Z
X-MICROSOFT-CDO-ALLDAYEVENT:FALSE
SUMMARY:NEAAPA Spring Leadership Seminar 2016
DESCRIPTION:Do you have new supervisors this season? Is it their first time being in a leadership position? Are you looking for new techniques when working with your staff? \n\n\n\nAttend the NEAAPA Leadership Seminar. First-time and returning supervisory staff from attractions throughout New England attend to learn valuable information and skills that they can put to use immediately.
X-ALT-DESC;FMTTYPE=text/html:Do you have new supervisors this season? Is it their first time being in a leadership position? Are you looking for new techniques when working with your staff?&nbsp\;<br />\n<br />\nAttend the NEAAPA&nbsp\;Leadership Seminar. First-time and returning supervisory staff from attractions throughout New England attend to learn valuable information and skills that they can put to use immediately.&nbsp\;
LOCATION:The NEAAPA Spring Leadership Seminar will be held at the Canobie Lake Park's Thomas J. Morrow Training Center.
UID:e.9242.10
SEQUENCE:3
DTSTAMP:20260425T191519Z
URL:http://neaapa.memberzone.com/events/details/neaapa-spring-leadership-seminar-2016-10
END:VEVENT

END:VCALENDAR
