BEGIN:VCALENDAR
VERSION:2.0
PRODID:-//ChamberMaster//Event Calendar 2.0//EN
METHOD:PUBLISH
X-PUBLISHED-TTL:P3D
REFRESH-INTERVAL:P3D
CALSCALE:GREGORIAN
BEGIN:VEVENT
DTSTART:20170725T150000Z
DTEND:20170726T000000Z
X-MICROSOFT-CDO-ALLDAYEVENT:FALSE
SUMMARY:NEAAPA Summer Meeting @ Edaville Family Theme Park
DESCRIPTION:Join NEAAPA as we gather for the first time at Edaville Family Theme Park to connect with members on the attractions and feasting on great meals.
X-ALT-DESC;FMTTYPE=text/html:<span style="font-size:18px\;">Join NEAAPA as we gather for the first time at Edaville Family Theme Park to connect with members on the attractions and feasting on great meals.</span>
LOCATION:This year's Summer Meeting will be at Edaville Family Theme Park in Carver\, Masssachusetts.
UID:e.9242.21
SEQUENCE:3
DTSTAMP:20260424T160205Z
URL:http://neaapa.memberzone.com/events/details/neaapa-summer-meeting-edaville-family-theme-park-21
END:VEVENT

END:VCALENDAR
