BEGIN:VCALENDAR
VERSION:2.0
PRODID:-//ChamberMaster//Event Calendar 2.0//EN
METHOD:PUBLISH
X-PUBLISHED-TTL:P3D
REFRESH-INTERVAL:P3D
CALSCALE:GREGORIAN
BEGIN:VEVENT
DTSTART:20160404T230000Z
DTEND:20160405T010000Z
X-MICROSOFT-CDO-ALLDAYEVENT:FALSE
SUMMARY:President's Dinner 2016
DESCRIPTION:Join NEAAPA members in Mystic ahead of the NEAAPA Annual Meeting. This is an informal event. There will be a fixed menu that includes dinner and non-alcoholic beverages.
X-ALT-DESC;FMTTYPE=text/html:Join NEAAPA members in Mystic ahead of the NEAAPA&nbsp\;Annual Meeting. This is an informal event. There will be a fixed menu that includes dinner and non-alcoholic beverages.&nbsp\;
LOCATION:Located just outside of Mystic Village\, The Mystic Boathouse features classic American cuisine with an extensive menu that is sure to please everyone in your party. We have daily specials that highlight fresh\, seasonal\, local fare. Our inviting ambiance is enhanced by warm\, hospitable service\, and whether you're joining us for a round of drinks in the bar\, a casual supper with your children\, or a special evening with friends and family\, you're sure to feel right at home.
UID:e.9242.8
SEQUENCE:3
DTSTAMP:20260425T223047Z
URL:http://neaapa.memberzone.com/events/details/president-s-dinner-2016-8
END:VEVENT

END:VCALENDAR
