BEGIN:VCALENDAR
VERSION:2.0
PRODID:-//ChamberMaster//Event Calendar 2.0//EN
METHOD:PUBLISH
X-PUBLISHED-TTL:P3D
REFRESH-INTERVAL:P3D
CALSCALE:GREGORIAN
BEGIN:VEVENT
DTSTART;VALUE=DATE:20190205
DTEND;VALUE=DATE:20190209
TRANSP:TRANSPARENT
X-MICROSOFT-CDO-ALLDAYEVENT:TRUE
SUMMARY:RIDE CAMP 2019 International Ride Training\, LLC’s Ride Operator Certification School
DESCRIPTION:RIDE CAMP-ers will obtain / renew instructor certification for the International Ride Operator Certification program. CAMP-ers will learn the Ten Critical Components\, the foundation of the iROC program\, and how to teach these components to every ride operator so that successful results are achieved in the field.\n\n\nThis is not your average safety conference.  iROC Ride Camp has a serious message\, and wants campers to have fun at the same time. Whether a General Manager\, Director\, Manager or Supervisor\, Ride Camper will:\n\n\n	Use actual ride operation videos to showcase ride operator performance do's and don'ts\;\n	Participate in hands-on skills practice using actual amusement rides\, the most effective means of training and reinforcing the Ten Critical Components\;\n	 Learn from a team of industry experts from various amusement industry parks who share innovative ideas for teaching each component. The faculty teaches ride operator safety courses and shares their best practices. Faculty this year are from Parks across the country such as Morey's Piers\, Cedar Point\, Holiday World\, Elitch Gardens Mega Parc (Canada) and more.\n	 Master premier train the trainer techniques\, with a unique focus on the "Great 8 " keys to training Ride Operators. Newly enhanced for 2019\, Ride Campers will have the opportunity to conduct videotaped training presentations to improve presentation skills and training retention.\n	 \n	\n\n\n\n\n \n\n\n\nWhat's New In 2019?\n\nSo much!  If you have attended an iROC Safety School in the past\, don't think you won't get anything new from Ride Camp 2019!  New this year \n\n\n	Waterpark Certification:  iROC is now offering top-of-the-slide iROC certification for waterpark operators.  Learn how the Ten Critical Components fit into the waterpark environment to improve safety\, professionalism\, and efficiency in non-lifeguarding positions\;\n	Skill Level Tracks! For the first time\, iROC Ride Camp will offer opportunities for experienced iROC students to take more advanced courses in ride safety\, ADA compliance\, and legal exposure\, while less experienced Rider Campers will take foundational courses to improve ride safety performance and training effectiveness.\n	Additional "teachback" opportunity!  By popular demand\, this year's school will give all Ride Campers the opportunity to conduct two videotaped "teachbacks" to help hone and strengthen training techniques.\n	New and improved Instructor Materials to support training and improve ride operator performance in parks of any size\;\n\n\n\n\n \n\n\n\nWhat If I'm Not An iROC Park?\n\nThe goal of iROC Ride Camp is to improve safety in the industry\, not limited to iROC parks or facilities. IRT welcomes Ride Campers from across the industry regardless of iROC participation. While Ride Campers from non-iROC facilities will not receive instructor certification\, iROC program materials\, or other iROC specific information\, there is still plenty to learn at Ride Camp. All Ride Campers will work together to improve training techniques\, increase safety awareness\, and fight off bad performance habits that can sneak into any operation.\n\n \n\niROC Ride Camp is not just a great way to get iROC Certified\, it is the best ride operations safety conference our industry has to offer.\n\n\n\n \n\n\n\n\nWho Attends Ride Camp?\n\nOne of the greatest strengths of iROC Ride Camp is the breadth of facilities that are represented. From huge\, corporately-operated chains to small family-owned parks\, iROC brings the entire industry together to network\, share best practices\, and learn from one another. There is no such thing as a "dumb question" or a "bad idea" at iROC Ride Camp. Whether you are a first-year ride operations supervisor or a seasoned general manager or vice president\, you will learn something new\, something valuable\, and from someone unexpected at Ride Camp.\n\n\n \n\n\n\n \n\n\n\n\nWhat Exactly Is The iROC Program? \n\n\n\niROC is the first and only third-party certification of ride operations training and performance standards.  iROC facilities embody a total commitment to safe\, efficient\, and professional ride operation. The iROC program provides training resources and support to seamlessly fold-in the Ten Critical Components\, the foundation of iROC Certification\, into new and existing training programs. Taught by iROC Certified Instructors\, iROC front-line operators learn strict attention to safety while maintaining efficiency and professionalism.\n\nOnce initial training is complete\, iROC facilities receive the tools and support necessary to audit themselves and receive periodic unannounced compliance audits. Audits are conducted by IRT third-party auditors to ensure compliance with the Ten Critical Components necessary to maintain certification.  IRT's self-evaluation tools and periodic third-party audits assist iROC clients in recognizing trends in their operation over time\, to identify training and performance strengths and weaknesses\, and support development of supervision and management as leaders in the industry.\n\n \n\niROC audits are rigorous\, assessing a client's ride operation on over thirty performance criteria\, each of which is weighted to provide the most meaningful assessment of actual ride operator performance possible. Where weaknesses or noncompliance is identified\, IRT works with iROC clients to identify and implement corrective measures to improve the operation and maintain third-party certification.\n\n \n\nAttending the iROC school\, you have an opportunity to enhance both  your operational leadership and teaching skills. It is a great opportunity to share with other industry leaders' experiences and building long-lasting industry friendships.
X-ALT-DESC;FMTTYPE=text/html:<div class="wpb_text_column wpb_content_element " style="box-sizing: border-box\; margin-bottom: 0px\; backface-visibility: hidden\; color: rgb(61\, 61\, 61)\; font-family: &quot\;Open Sans&quot\;\; font-size: 14px\;">\n<div class="wpb_wrapper" style="box-sizing: border-box\; margin-bottom: 0px\;">\n<div style="box-sizing: border-box\;">\n<div style="box-sizing: border-box\; margin-bottom: 0px\;"><strong style="box-sizing: border-box\; margin-bottom: 0px\;">RIDE CAMP-ers will obtain / renew instructor certification for the International Ride Operator Certification program.&nbsp\;CAMP-ers will learn the Ten Critical Components\, the foundation of the iROC program\, and how to teach these components to every ride operator so that successful results are achieved in the field.</strong></div>\n</div>\n\n<p style="box-sizing: border-box\; margin: 0px 0px 8px\;">This is not your average safety conference.&nbsp\; iROC Ride Camp has a serious message\, and wants campers to have fun at the same time. Whether a General Manager\, Director\, Manager or Supervisor\, Ride Camper will:</p>\n\n<ul style="box-sizing: border-box\; margin-bottom: 0px\;">\n	<li style="box-sizing: border-box\;">Use actual ride operation videos to showcase ride operator performance do&rsquo\;s and don&rsquo\;ts\;</li>\n	<li style="box-sizing: border-box\;">Participate in hands-on skills practice using actual amusement rides\, the most effective means of training and reinforcing the Ten Critical Components\;</li>\n	<li style="box-sizing: border-box\;">&nbsp\;Learn from a team of industry experts from various amusement industry parks who share innovative ideas for teaching each component. The faculty teaches ride operator safety courses and shares their best practices. Faculty this year are from Parks across the country such as Morey&rsquo\;s Piers\, Cedar Point\, Holiday World\, Elitch Gardens Mega Parc (Canada) and more.</li>\n	<li style="box-sizing: border-box\; margin-bottom: 0px\;">&nbsp\;Master premier train the trainer techniques\, with a unique focus on the &ldquo\;Great 8 &rdquo\; keys to training Ride Operators. Newly enhanced for 2019\, Ride Campers will have the opportunity to conduct videotaped training presentations to improve presentation skills and training retention.\n	<h4 align="center" style="box-sizing: border-box\; margin: 0px\; text-rendering: optimizelegibility\; line-height: 1.2em\; font-size: 1.35em\;">&nbsp\;</h4>\n	</li>\n</ul>\n</div>\n</div>\n\n<div class="clearfix" style="box-sizing: border-box\; color: rgb(61\, 61\, 61)\; font-family: &quot\;Open Sans&quot\;\; font-size: 14px\; height: 20px\;">&nbsp\;</div>\n\n<div class="wpb_text_column wpb_content_element " style="box-sizing: border-box\; margin-bottom: 0px\; backface-visibility: hidden\; color: rgb(61\, 61\, 61)\; font-family: &quot\;Open Sans&quot\;\; font-size: 14px\;">\n<div class="wpb_wrapper" style="box-sizing: border-box\; margin-bottom: 0px\;">\n<h4 align="center" style="box-sizing: border-box\; margin: 0px\; text-rendering: optimizelegibility\; line-height: 1.2em\; font-size: 1.35em\;"><strong style="box-sizing: border-box\; margin-bottom: 0px\;">What&rsquo\;s New In 2019?</strong></h4>\n\n<div style="box-sizing: border-box\;">So much!&nbsp\; If you have attended an iROC Safety School in the past\, don&rsquo\;t think you won&rsquo\;t get anything new from Ride Camp 2019!&nbsp\; New this year&hellip\;</div>\n\n<ul style="box-sizing: border-box\; margin-bottom: 0px\;">\n	<li style="box-sizing: border-box\;"><strong style="box-sizing: border-box\; margin-bottom: 0px\;">Waterpark Certification:</strong>&nbsp\; iROC is now offering top-of-the-slide iROC certification for waterpark operators.&nbsp\; Learn how the Ten Critical Components fit into the waterpark environment to improve safety\, professionalism\, and efficiency in non-lifeguarding positions\;</li>\n	<li style="box-sizing: border-box\;"><strong style="box-sizing: border-box\; margin-bottom: 0px\;">Skill Level Tracks!</strong>&nbsp\;For the first time\, iROC Ride Camp will offer opportunities for experienced iROC students to take more advanced courses in ride safety\, ADA compliance\, and legal exposure\, while less experienced Rider Campers will take foundational courses to improve ride safety performance and training effectiveness.</li>\n	<li style="box-sizing: border-box\;"><strong style="box-sizing: border-box\; margin-bottom: 0px\;">Additional &ldquo\;teachback&rdquo\; opportunity!</strong>&nbsp\;&nbsp\;By popular demand\, this year&rsquo\;s school will give all Ride Campers the opportunity to conduct two videotaped &ldquo\;teachbacks&rdquo\; to help hone and strengthen training techniques.</li>\n	<li style="box-sizing: border-box\; margin-bottom: 0px\;"><strong style="box-sizing: border-box\; margin-bottom: 0px\;">New and improved Instructor Materials</strong>&nbsp\;to support training and improve ride operator performance in parks of any size\;</li>\n</ul>\n</div>\n</div>\n\n<div class="clearfix" style="box-sizing: border-box\; color: rgb(61\, 61\, 61)\; font-family: &quot\;Open Sans&quot\;\; font-size: 14px\; height: 20px\;">&nbsp\;</div>\n\n<div class="wpb_text_column wpb_content_element " style="box-sizing: border-box\; margin-bottom: 0px\; backface-visibility: hidden\; color: rgb(61\, 61\, 61)\; font-family: &quot\;Open Sans&quot\;\; font-size: 14px\;">\n<div class="wpb_wrapper" style="box-sizing: border-box\; margin-bottom: 0px\;">\n<h4 align="center" style="box-sizing: border-box\; margin: 0px\; text-rendering: optimizelegibility\; line-height: 1.2em\; font-size: 1.35em\;"><strong style="box-sizing: border-box\; margin-bottom: 0px\;">What If I&rsquo\;m Not An iROC Park?</strong></h4>\n\n<div align="left" style="box-sizing: border-box\;">The goal of iROC Ride Camp is to improve safety in the industry\, not limited to iROC parks or facilities. IRT welcomes Ride Campers from across the industry regardless of iROC participation. While Ride Campers from non-iROC facilities will not receive instructor certification\, iROC program materials\, or other iROC specific information\, there is still plenty to learn at Ride Camp. All Ride Campers will work together to improve training techniques\, increase safety awareness\, and fight off bad performance habits that can sneak into any operation.</div>\n\n<div style="box-sizing: border-box\;">&nbsp\;</div>\n\n<div style="box-sizing: border-box\; margin-bottom: 0px\;">iROC Ride Camp is not just a great way to get iROC Certified\, it is the best ride operations safety conference our industry has to offer.</div>\n</div>\n</div>\n\n<div class="clearfix" style="box-sizing: border-box\; color: rgb(61\, 61\, 61)\; font-family: &quot\;Open Sans&quot\;\; font-size: 14px\; height: 20px\;">&nbsp\;</div>\n\n<div class="wpb_text_column wpb_content_element " style="box-sizing: border-box\; margin-bottom: 0px\; backface-visibility: hidden\; color: rgb(61\, 61\, 61)\; font-family: &quot\;Open Sans&quot\;\; font-size: 14px\;">\n<div class="wpb_wrapper" style="box-sizing: border-box\; margin-bottom: 0px\;">\n<div style="box-sizing: border-box\;">\n<h4 align="center" style="box-sizing: border-box\; margin: 0px\; text-rendering: optimizelegibility\; line-height: 1.2em\; font-size: 1.35em\;"><strong style="box-sizing: border-box\; margin-bottom: 0px\;">Who Attends Ride Camp?</strong></h4>\n\n<div style="box-sizing: border-box\; margin-bottom: 0px\;">One of the greatest strengths of iROC Ride Camp is the breadth of facilities that are represented. From huge\, corporately-operated chains to small family-owned parks\, iROC brings the entire industry together to network\, share best practices\, and learn from one another. There is no such thing as a &ldquo\;dumb question&rdquo\; or a &ldquo\;bad idea&rdquo\; at iROC Ride Camp. Whether you are a first-year ride operations supervisor or a seasoned general manager or vice president\, you will learn something new\, something valuable\, and from someone unexpected at Ride Camp.</div>\n</div>\n\n<div style="box-sizing: border-box\; margin-bottom: 0px\;">&nbsp\;</div>\n</div>\n</div>\n\n<div class="clearfix" style="box-sizing: border-box\; color: rgb(61\, 61\, 61)\; font-family: &quot\;Open Sans&quot\;\; font-size: 14px\; height: 20px\;">&nbsp\;</div>\n\n<div class="wpb_text_column wpb_content_element " style="box-sizing: border-box\; margin-bottom: 0px\; backface-visibility: hidden\; color: rgb(61\, 61\, 61)\; font-family: &quot\;Open Sans&quot\;\; font-size: 14px\;">\n<div class="wpb_wrapper" style="box-sizing: border-box\; margin-bottom: 0px\;">\n<div style="box-sizing: border-box\;">\n<h4 align="center" style="box-sizing: border-box\; margin: 0px\; text-rendering: optimizelegibility\; line-height: 1.2em\; font-size: 1.35em\;"><strong style="box-sizing: border-box\; margin-bottom: 0px\;">What Exactly Is The iROC Program?&nbsp\;</strong></h4>\n</div>\n\n<div style="box-sizing: border-box\; margin-bottom: 0px\;">\n<p style="box-sizing: border-box\; margin: 0px 0px 8px\;">iROC is the first and only third-party certification of ride operations training and performance standards.&nbsp\; iROC facilities embody a total commitment to safe\, efficient\, and professional ride operation. The iROC program provides training resources and support to seamlessly fold-in the Ten Critical Components\, the foundation of iROC Certification\, into new and existing training programs. Taught by iROC Certified Instructors\, iROC front-line operators learn strict attention to safety while maintaining efficiency and professionalism.</p>\n\n<div style="box-sizing: border-box\;">Once initial training is complete\, iROC facilities receive the tools and support necessary to audit themselves and receive periodic unannounced compliance audits. Audits are conducted by IRT third-party auditors to ensure compliance with the Ten Critical Components necessary to maintain certification.&nbsp\; IRT&rsquo\;s self-evaluation tools and periodic third-party audits assist iROC clients in recognizing trends in their operation over time\, to identify training and performance strengths and weaknesses\, and support development of supervision and management as leaders in the industry.</div>\n\n<div style="box-sizing: border-box\;">&nbsp\;</div>\n\n<div style="box-sizing: border-box\;">iROC audits are rigorous\, assessing a client&rsquo\;s ride operation on over thirty performance criteria\, each of which is weighted to provide the most meaningful assessment of actual ride operator performance possible. Where weaknesses or noncompliance is identified\, IRT works with iROC clients to identify and implement corrective measures to improve the operation and maintain third-party certification.</div>\n\n<div style="box-sizing: border-box\;">&nbsp\;</div>\n\n<div style="box-sizing: border-box\;">Attending the&nbsp\;iROC school\, you have an opportunity to enhance both&nbsp\; your operational leadership and teaching skills. It is a great opportunity to share with other industry leaders&rsquo\; experiences and building long-lasting industry friendships.</div>\n</div>\n</div>\n</div>\n
LOCATION:To be held at The PARK at OWA\, FOLEY\, ALABAMA. Opened in the summer of 2017\, the PARK at OWA boasts 21 attractions\, a bustling dining and entertainment district\, hotel accommodations\, and a multi-use sports complex all just 15 minutes from the white sand beaches of the Gulf Coast. This year's "Ride Camp" is your opportunity to earn or renew iROC instructor certification\, learn best practices from a host of industry pros\, and network with your peers in a relaxed and fun setting. Fly into Pensacola\, Florida or Mobile\, Alabama $70.00 SPECIAL Room Rate at the beautiful MARRIOTT TOWNE PLACE SUITES iROC is for Hard Rides\, Aquatics\, Go Kart\, Zip Lines\, Inflatable Operators and More!
UID:e.9242.41
SEQUENCE:3
DTSTAMP:20260422T232949Z
URL:http://neaapa.memberzone.com/events/details/ride-camp-2019-international-ride-training-llc-s-ride-operator-certification-school-41
END:VEVENT

END:VCALENDAR
